BEGIN:VCALENDAR
VERSION:2.0
PRODID:-//eventon.com NONSGML v1.0//EN
CALSCALE:GREGORIAN
METHOD:PUBLISH
BEGIN:VEVENT
UID:69e5de147c69d
DTSTAMP:20260420T080436Z
DTSTART:20191115T093000Z
DTEND:20191115T235000Z
LOCATION:Ritz-Carlton\,  Fort Lauderdale 1 North Fort Lauderdale Beach Boulevard
SUMMARY:Anthony daFonseca To Speak At National Construction Defect Conference
DESCRIPTION:CMBG3’s Anthony daFonseca will be speaking at Perrin Confere
 nces’ National Construction Defect Conference on November 15\,  2019 at 9
 :30am at the Ritz Carlton in Fort Lauderdale\,  FL.  His presentation\,  t
 itled “Innovation of Technology\, ” will focus on issues surrounding mo
 dular housing and pre-manufactured / pre-fab homes. For more information on
  the conference\, [..]\nhttps://www.cmbg3.com/events/anthony-dafonseca-to-s
 peak-at-national-construction-defect-conference
URL:https://www.cmbg3.com/events/anthony-dafonseca-to-speak-at-national-construction-defect-conference
END:VEVENT
END:VCALENDAR