BEGIN:VCALENDAR
VERSION:2.0
PRODID:-//eventon.com NONSGML v1.0//EN
CALSCALE:GREGORIAN
METHOD:PUBLISH
BEGIN:VEVENT
UID:69e8888597d41
DTSTAMP:20260422T083621Z
DTSTART:20240403
DTEND:20240404
LOCATION:
SUMMARY:Elizabeth Bain Co-Chairs PLI Conference; John Gardella Speaks At Same
DESCRIPTION:On April 3\,  2024\,  Attorney John Gardella will speak in Manh
 attan at the Practising Law Institute&#8217;s (PLI) Manufacturing and Consu
 mer Products Law Institute 2024. John&#8217;s presentation is titled &#8220
 ;PFAS: 2024&#8217;s Greatest Manufacturing &amp; Consumer Products Business
  Risk and Disruptor&#8221;\,  and will focus on federal regulations\,  stat
 e regulations\,  litigation trends\,  and[..]\nhttps://www.cmbg3.com/events
 /elizabeth-bain-co-chairs-pli-conference-john-gardella-speaks-at-same
URL:https://www.cmbg3.com/events/elizabeth-bain-co-chairs-pli-conference-john-gardella-speaks-at-same
END:VEVENT
END:VCALENDAR