BEGIN:VCALENDAR
VERSION:2.0
PRODID:-//eventon.com NONSGML v1.0//EN
CALSCALE:GREGORIAN
METHOD:PUBLISH
BEGIN:VEVENT
UID:69e5de5538ba5
DTSTAMP:20260420T080541Z
DTSTART:20231003T140500Z
DTEND:20231003T150500Z
LOCATION:
SUMMARY:John Gardella To Speak At ALM's General Counsel East Conference
DESCRIPTION:Attorney John Gardella will moderate a panel at ALM&#8217;s Gen
 eral Counsel East conference in Brookyln\,  NY on October 3\,  2023 at 10:0
 5am ET on the topic of ESG strategies for General Counsel to consider. His 
 panel discussion\,  entitled &#8220;Datafying Your ESG Initiatives &amp; De
 fining Measurable Success&#8220;\,  seeks to outline how[..]\nhttps://www.c
 mbg3.com/events/john-gardella-to-speak-at-alms-general-counsel-east-confere
 nce
URL:https://www.cmbg3.com/events/john-gardella-to-speak-at-alms-general-counsel-east-conference
END:VEVENT
END:VCALENDAR