BEGIN:VCALENDAR
VERSION:2.0
PRODID:-//eventon.com NONSGML v1.0//EN
CALSCALE:GREGORIAN
METHOD:PUBLISH
BEGIN:VEVENT
UID:69e73ad4efb58
DTSTAMP:20260421T085236Z
DTSTART:20230419T171500Z
DTEND:20230419T180000Z
LOCATION:
SUMMARY:David Goldman To Speak On Ethylene Oxide At EECMA
DESCRIPTION:Please join David Goldman on April 19 and 20\,  2023 for the En
 vironmental &amp; Emerging Claim Manager Association&#8217;s (EECMA) annual
  conference in Philadelphia\,  PA. David will speak on a panel at the confe
 rence on April 19 at 1:15 &#8211; 2:00pm on the subject of the emerging con
 taminant ethylene oxide. The[..]\nhttps://www.cmbg3.com/events/david-goldma
 n-to-speak-on-ethylene-oxide-at-eecma
URL:https://www.cmbg3.com/events/david-goldman-to-speak-on-ethylene-oxide-at-eecma
END:VEVENT
END:VCALENDAR