BEGIN:VCALENDAR
VERSION:2.0
PRODID:-//eventon.com NONSGML v1.0//EN
CALSCALE:GREGORIAN
METHOD:PUBLISH
BEGIN:VEVENT
UID:69e73688b9afa
DTSTAMP:20260421T083416Z
DTSTART:20221116T200000Z
DTEND:20221116T210000Z
LOCATION:
SUMMARY:John Gardella Invited PFAS Speaker At IAC Executive Committee Event
DESCRIPTION:On Wednesday\,  November 16 at 12pm Central\,  the IADC&#8217;s
  Insurance Executives committee will hold its latest Executive Forum call. 
 The  call will also be open to the Insurance and Reinsurance\,  Environmen
 tal and Energy Law\,  and the Toxic and Hazardous Substances Litigation com
 mittees. The topic for this month’s call will be:[..]\nhttps://www.cmbg3.
 com/events/john-gardella-invited-pfas-speaker-at-iac-executive-committee-ev
 ent
URL:https://www.cmbg3.com/events/john-gardella-invited-pfas-speaker-at-iac-executive-committee-event
END:VEVENT
END:VCALENDAR