BEGIN:VCALENDAR
VERSION:2.0
PRODID:-//eventon.com NONSGML v1.0//EN
CALSCALE:GREGORIAN
METHOD:PUBLISH
BEGIN:VEVENT
UID:69e736c315386
DTSTAMP:20260421T083515Z
DTSTART:20221108T060000Z
DTEND:20221108T090000Z
LOCATION:
SUMMARY:CMBG3 Sponsors and Will Attend New England Council Annual Celebration
DESCRIPTION:We are proud to sponsor and attend the New England Council&#821
 7;s Annual Celebration on November 7\,  2022 at the Omni Hotel in the Seapo
 rt District of Boston. The gala will honor and celebrate several New Englan
 ders who have significantly impacted the region over the course of the past
  year. One[..]\nhttps://www.cmbg3.com/events/cmbg3-sponsors-and-will-attend
 -new-england-council-annual-celebration
URL:https://www.cmbg3.com/events/cmbg3-sponsors-and-will-attend-new-england-council-annual-celebration
END:VEVENT
END:VCALENDAR