BEGIN:VCALENDAR
VERSION:2.0
PRODID:-//eventon.com NONSGML v1.0//EN
CALSCALE:GREGORIAN
METHOD:PUBLISH
BEGIN:VEVENT
UID:69e5f376e8844
DTSTAMP:20260420T093550Z
DTSTART:20200929T123000Z
DTEND:20200929T133000Z
LOCATION:
SUMMARY:Christine Calareso To Present At Asbestos Conference
DESCRIPTION:Please join CMBG3&#8217;s Christine Calareso\,  as she addresse
 s a variety of issues at a lunch session during the Perrin Asbestos Confere
 nce. Christine and her co-presenters will touch on topics such as working f
 rom home strategies to help you advance your career and how to work with yo
 ur teams and outside[..]\nhttps://www.cmbg3.com/events/christine-calareso-t
 o-present-at-asbestos-conference
URL:https://www.cmbg3.com/events/christine-calareso-to-present-at-asbestos-conference
END:VEVENT
END:VCALENDAR